BEGIN:VCALENDAR
VERSION:2.0
PRODID:-//eventon.com NONSGML v1.0//EN
CALSCALE:GREGORIAN
METHOD:PUBLISH
BEGIN:VEVENT
UID:69ea495aa1524
DTSTAMP:20260423T163122Z
DTSTART:20270423T101500Z
DTEND:20270423T111500Z
LOCATION:Serrat(u)s Bodywork Zürich
SUMMARY:Yoga Flow
DESCRIPTION:Yoga Flow\nhttps://www.serratus.ch/Events/yoga-flow/?lang=en&va
 r=ri-104.l-L1
URL:https://www.serratus.ch/Events/yoga-flow/?lang=en&var=ri-104.l-L1
END:VEVENT
END:VCALENDAR