BEGIN:VCALENDAR
VERSION:2.0
PRODID:-//eventon.com NONSGML v1.0//EN
CALSCALE:GREGORIAN
METHOD:PUBLISH
BEGIN:VEVENT
UID:69eadad893564
DTSTAMP:20260424T025208Z
DTSTART:20270604T101500Z
DTEND:20270604T111500Z
LOCATION:Serrat(u)s Bodywork Zürich
SUMMARY:Yoga Flow
DESCRIPTION:Yoga Flow\nhttps://www.serratus.ch/Events/yoga-flow/?lang=en&va
 r=ri-110.l-L1
URL:https://www.serratus.ch/Events/yoga-flow/?lang=en&var=ri-110.l-L1
END:VEVENT
END:VCALENDAR