BEGIN:VCALENDAR
VERSION:2.0
PRODID:-//eventon.com NONSGML v1.0//EN
CALSCALE:GREGORIAN
METHOD:PUBLISH
BEGIN:VEVENT
UID:69e4ec4c5b62d
DTSTAMP:20260419T145300Z
DTSTART:20250822T101500Z
DTEND:20250822T111500Z
LOCATION:Serrat(u)s Bodywork Zürich
SUMMARY:Yoga Flow
DESCRIPTION:Yoga Flow\nhttps://www.serratus.ch/Events/yoga-flow/?lang=en&va
 r=ri-17.l-L1
URL:https://www.serratus.ch/Events/yoga-flow/?lang=en&var=ri-17.l-L1
END:VEVENT
END:VCALENDAR