BEGIN:VCALENDAR
VERSION:2.0
PRODID:-//eventon.com NONSGML v1.0//EN
CALSCALE:GREGORIAN
METHOD:PUBLISH
BEGIN:VEVENT
UID:69e535b31b92d
DTSTAMP:20260419T200611Z
DTSTART:20250912T101500Z
DTEND:20250912T111500Z
LOCATION:Serrat(u)s Bodywork Zürich
SUMMARY:Yoga Flow
DESCRIPTION:Yoga Flow\nhttps://www.serratus.ch/Events/yoga-flow/?lang=en&va
 r=ri-20.l-L1
URL:https://www.serratus.ch/Events/yoga-flow/?lang=en&var=ri-20.l-L1
END:VEVENT
END:VCALENDAR