BEGIN:VCALENDAR
VERSION:2.0
PRODID:-//eventon.com NONSGML v1.0//EN
CALSCALE:GREGORIAN
METHOD:PUBLISH
BEGIN:VEVENT
UID:69e78907bfbd8
DTSTAMP:20260421T142615Z
DTSTART:20251017T101500Z
DTEND:20251017T111500Z
LOCATION:Serrat(u)s Bodywork Zürich
SUMMARY:Yoga Flow
DESCRIPTION:Yoga Flow\nhttps://www.serratus.ch/Events/yoga-flow/?lang=en&va
 r=ri-25.l-L1
URL:https://www.serratus.ch/Events/yoga-flow/?lang=en&var=ri-25.l-L1
END:VEVENT
END:VCALENDAR