BEGIN:VCALENDAR
VERSION:2.0
PRODID:-//eventon.com NONSGML v1.0//EN
CALSCALE:GREGORIAN
METHOD:PUBLISH
BEGIN:VEVENT
UID:69e79c407e39e
DTSTAMP:20260421T154816Z
DTSTART:20251024T101500Z
DTEND:20251024T111500Z
LOCATION:Serrat(u)s Bodywork Zürich
SUMMARY:Yoga Flow
DESCRIPTION:Yoga Flow\nhttps://www.serratus.ch/Events/yoga-flow/?lang=en&va
 r=ri-26.l-L1
URL:https://www.serratus.ch/Events/yoga-flow/?lang=en&var=ri-26.l-L1
END:VEVENT
END:VCALENDAR