BEGIN:VCALENDAR
VERSION:2.0
PRODID:-//eventon.com NONSGML v1.0//EN
CALSCALE:GREGORIAN
METHOD:PUBLISH
BEGIN:VEVENT
UID:69e7ca04a71e5
DTSTAMP:20260421T190332Z
DTSTART:20251107T111500Z
DTEND:20251107T121500Z
LOCATION:Serrat(u)s Bodywork Zürich
SUMMARY:Yoga Flow
DESCRIPTION:Yoga Flow\nhttps://www.serratus.ch/Events/yoga-flow/?lang=en&va
 r=ri-28.l-L1
URL:https://www.serratus.ch/Events/yoga-flow/?lang=en&var=ri-28.l-L1
END:VEVENT
END:VCALENDAR