BEGIN:VCALENDAR
VERSION:2.0
PRODID:-//eventon.com NONSGML v1.0//EN
CALSCALE:GREGORIAN
METHOD:PUBLISH
BEGIN:VEVENT
UID:69e4f1a5419ab
DTSTAMP:20260419T151549Z
DTSTART:20260213T111500Z
DTEND:20260213T121500Z
LOCATION:Serrat(u)s Bodywork Zürich
SUMMARY:Yoga Flow
DESCRIPTION:Yoga Flow\nhttps://www.serratus.ch/Events/yoga-flow/?lang=en&va
 r=ri-42.l-L1
URL:https://www.serratus.ch/Events/yoga-flow/?lang=en&var=ri-42.l-L1
END:VEVENT
END:VCALENDAR