BEGIN:VCALENDAR
VERSION:2.0
PRODID:-//eventon.com NONSGML v1.0//EN
CALSCALE:GREGORIAN
METHOD:PUBLISH
BEGIN:VEVENT
UID:69eb4e12b985a
DTSTAMP:20260424T110346Z
DTSTART:20260807T101500Z
DTEND:20260807T111500Z
LOCATION:Serrat(u)s Bodywork Zürich
SUMMARY:Yoga Flow
DESCRIPTION:Yoga Flow\nhttps://www.serratus.ch/Events/yoga-flow/?lang=en&va
 r=ri-67.l-L1
URL:https://www.serratus.ch/Events/yoga-flow/?lang=en&var=ri-67.l-L1
END:VEVENT
END:VCALENDAR