BEGIN:VCALENDAR
VERSION:2.0
PRODID:-//eventon.com NONSGML v1.0//EN
CALSCALE:GREGORIAN
METHOD:PUBLISH
BEGIN:VEVENT
UID:69e500617e321
DTSTAMP:20260419T161841Z
DTSTART:20261106T111500Z
DTEND:20261106T121500Z
LOCATION:Serrat(u)s Bodywork Zürich
SUMMARY:Yoga Flow
DESCRIPTION:Yoga Flow\nhttps://www.serratus.ch/Events/yoga-flow/?lang=en&va
 r=ri-80.l-L1
URL:https://www.serratus.ch/Events/yoga-flow/?lang=en&var=ri-80.l-L1
END:VEVENT
END:VCALENDAR