BEGIN:VCALENDAR
VERSION:2.0
PRODID:-//eventon.com NONSGML v1.0//EN
CALSCALE:GREGORIAN
METHOD:PUBLISH
BEGIN:VEVENT
UID:69e8b94add558
DTSTAMP:20260422T120426Z
DTSTART:20270108T111500Z
DTEND:20270108T121500Z
LOCATION:Serrat(u)s Bodywork Zürich
SUMMARY:Yoga Flow
DESCRIPTION:Yoga Flow\nhttps://www.serratus.ch/Events/yoga-flow/?lang=en&va
 r=ri-89.l-L1
URL:https://www.serratus.ch/Events/yoga-flow/?lang=en&var=ri-89.l-L1
END:VEVENT
END:VCALENDAR