BEGIN:VCALENDAR
VERSION:2.0
PRODID:-//eventon.com NONSGML v1.0//EN
CALSCALE:GREGORIAN
METHOD:PUBLISH
BEGIN:VEVENT
UID:69e8eec02968d
DTSTAMP:20260422T155232Z
DTSTART:20270122T111500Z
DTEND:20270122T121500Z
LOCATION:Serrat(u)s Bodywork Zürich
SUMMARY:Yoga Flow
DESCRIPTION:Yoga Flow\nhttps://www.serratus.ch/Events/yoga-flow/?lang=en&va
 r=ri-91.l-L1
URL:https://www.serratus.ch/Events/yoga-flow/?lang=en&var=ri-91.l-L1
END:VEVENT
END:VCALENDAR