BEGIN:VCALENDAR
VERSION:2.0
PRODID:-//eventon.com NONSGML v1.0//EN
CALSCALE:GREGORIAN
METHOD:PUBLISH
BEGIN:VEVENT
UID:69e96159097cc
DTSTAMP:20260423T000129Z
DTSTART:20270226T111500Z
DTEND:20270226T121500Z
LOCATION:Serrat(u)s Bodywork Zürich
SUMMARY:Yoga Flow
DESCRIPTION:Yoga Flow\nhttps://www.serratus.ch/Events/yoga-flow/?lang=en&va
 r=ri-96.l-L1
URL:https://www.serratus.ch/Events/yoga-flow/?lang=en&var=ri-96.l-L1
END:VEVENT
END:VCALENDAR