BEGIN:VCALENDAR
VERSION:2.0
PRODID:-//eventon.com NONSGML v1.0//EN
CALSCALE:GREGORIAN
METHOD:PUBLISH
BEGIN:VEVENT
UID:69e73fee0778f
DTSTAMP:20260421T091422Z
DTSTART:20260914T173000Z
DTEND:20260914T184500Z
LOCATION:Serrat(u)s Bodywork Zürich
SUMMARY:Moon Yoga
DESCRIPTION:The moon is the great mother Goddess of the night sky. Her triu
 ne nature is to create\,  destroy and recreate. We see this in her dance\, 
  as she waxes and wanes\,  brightening the sky at full moon and living us i
 n soft stillness before the new moon. The moon changes\, [..]\nhttps://www.
 serratus.ch/Events/moon-yoga/?lang=en&var=ri-19.l-L1
URL:https://www.serratus.ch/Events/moon-yoga/?lang=en&var=ri-19.l-L1
END:VEVENT
END:VCALENDAR