BEGIN:VCALENDAR
VERSION:2.0
PRODID:-//eventon.com NONSGML v1.0//EN
CALSCALE:GREGORIAN
METHOD:PUBLISH
BEGIN:VEVENT
UID:69e4ec74818a4
DTSTAMP:20260419T145340Z
DTSTART:20261029T170000Z
DTEND:20261029T181500Z
LOCATION:Serrat(u)s Bodywork Zürich
SUMMARY:Sparkle Flow Yoga
DESCRIPTION:Sparkle Flow Yoga\nhttps://www.serratus.ch/Events/sparkle-flow-
 yoga/?lang=en&var=ri-79.l-L1
URL:https://www.serratus.ch/Events/sparkle-flow-yoga/?lang=en&var=ri-79.l-L1
END:VEVENT
END:VCALENDAR