BEGIN:VCALENDAR
VERSION:2.0
PRODID:-//eventon.com NONSGML v1.0//EN
CALSCALE:GREGORIAN
METHOD:PUBLISH
BEGIN:VEVENT
UID:69e88e56da6fd
DTSTAMP:20260422T090110Z
DTSTART:20261224T170000Z
DTEND:20261224T181500Z
LOCATION:Serrat(u)s Bodywork Zürich
SUMMARY:Sparkle Flow Yoga
DESCRIPTION:Sparkle Flow Yoga\nhttps://www.serratus.ch/Events/sparkle-flow-
 yoga/?lang=en&var=ri-87.l-L1
URL:https://www.serratus.ch/Events/sparkle-flow-yoga/?lang=en&var=ri-87.l-L1
END:VEVENT
END:VCALENDAR