BEGIN:VCALENDAR
VERSION:2.0
PRODID:-//eventon.com NONSGML v1.0//EN
CALSCALE:GREGORIAN
METHOD:PUBLISH
BEGIN:VEVENT
UID:69ecf8d08351e
DTSTAMP:20260425T172432Z
DTSTART:20250626T160000Z
DTEND:20250626T171500Z
LOCATION:Serrat(u)s Bodywork Zürich
SUMMARY:Sparkle Flow Yoga
DESCRIPTION:Sparkle Flow Yoga\nhttps://www.serratus.ch/Events/sparkle-flow-
 yoga/?lang=en&var=ri-9.l-L1
URL:https://www.serratus.ch/Events/sparkle-flow-yoga/?lang=en&var=ri-9.l-L1
END:VEVENT
END:VCALENDAR