BEGIN:VCALENDAR
VERSION:2.0
PRODID:-//eventon.com NONSGML v1.0//EN
CALSCALE:GREGORIAN
METHOD:PUBLISH
BEGIN:VEVENT
UID:69e99075071ff
DTSTAMP:20260423T032229Z
DTSTART:20270311T170000Z
DTEND:20270311T181500Z
LOCATION:Serrat(u)s Bodywork Zürich
SUMMARY:Sparkle Flow Yoga
DESCRIPTION:Sparkle Flow Yoga\nhttps://www.serratus.ch/Events/sparkle-flow-
 yoga/?lang=en&var=ri-98.l-L1
URL:https://www.serratus.ch/Events/sparkle-flow-yoga/?lang=en&var=ri-98.l-L1
END:VEVENT
END:VCALENDAR