BEGIN:VCALENDAR
VERSION:2.0
PRODID:-//eventon.com NONSGML v1.0//EN
CALSCALE:GREGORIAN
METHOD:PUBLISH
BEGIN:VEVENT
UID:69e88e56dd4a7
DTSTAMP:20260422T090110Z
DTSTART:20260329T123000Z
DTEND:20260329T173000Z
LOCATION:Serrat(u)s Bodywork Zürich
SUMMARY:BONDAGE JAM ZURICH
DESCRIPTION:THE BONDAGE JAM by LUHMEN D&#8217;ARC&#8230; &#8230;works a bit
  like a milonga in tango. People come together to tie each other up\,  enjo
 y sessions\,  practise\,  exchange ideas or simply watch and gather first i
 mpressions and experiences. There is no fixed structure; participants are f
 ree to interact with each other in[..]\nhttps://www.serratus.ch/Events/bond
 age-jam-zurich/?lang=en
URL:https://www.serratus.ch/Events/bondage-jam-zurich/?lang=en
END:VEVENT
END:VCALENDAR