BEGIN:VCALENDAR
VERSION:2.0
PRODID:-//eventon.com NONSGML v1.0//EN
CALSCALE:GREGORIAN
METHOD:PUBLISH
BEGIN:VEVENT
UID:69e9dddb80289
DTSTAMP:20260423T085243Z
DTSTART:20260511T070000Z
DTEND:20260511T080000Z
LOCATION:Serrat(u)s Bodywork Zürich Zwinglistrasse 40\,  8004 Zürich
SUMMARY:Hatha Yoga
DESCRIPTION:Hatha Yoga\nhttps://www.serratus.ch/Events/hatha-yoga/var/ri-4.
 l-L1
URL:https://www.serratus.ch/Events/hatha-yoga/var/ri-4.l-L1
END:VEVENT
END:VCALENDAR