BEGIN:VCALENDAR
VERSION:2.0
PRODID:-//eventon.com NONSGML v1.0//EN
CALSCALE:GREGORIAN
METHOD:PUBLISH
BEGIN:VEVENT
UID:69e88cef329ec
DTSTAMP:20260422T085511Z
DTSTART:20260727T173000Z
DTEND:20260727T184500Z
LOCATION:Serrat(u)s Bodywork Zürich Zwinglistrasse 40\,  8004 Zürich
SUMMARY:Moon Yoga
DESCRIPTION:Der Mond ist die große Muttergöttin des Nachthimmels. Ihre dr
 eifache Natur ist es\,  zu erschaffen\,  zu zerstören und neu zu erschaffe
 n. Wir sehen dies in ihrem Tanz\,  während sie wächst und abnimmt\,  den 
 Himmel im Vollmond erhellt und uns vor dem Neumond in sanfte Stille taucht.
  Der Mond verändert sich[..]\nhttps://www.serratus.ch/Events/moon-yoga/var
 /ri-12.l-L1
URL:https://www.serratus.ch/Events/moon-yoga/var/ri-12.l-L1
END:VEVENT
END:VCALENDAR