BEGIN:VCALENDAR
VERSION:2.0
PRODID:-//eventon.com NONSGML v1.0//EN
CALSCALE:GREGORIAN
METHOD:PUBLISH
BEGIN:VEVENT
UID:69e7b49f31455
DTSTAMP:20260421T173215Z
DTSTART:20260506T101500Z
DTEND:20260506T111500Z
LOCATION:Serrat(u)s Bodywork Zürich Zwinglistrasse 40\,  8004 Zürich
SUMMARY:Sun Yoga
DESCRIPTION:Willkommen zur Mittagszeit\,  wenn die Sonne am höchsten Punkt
  des Tages steht. Mit dem Licht der Sonne sich lebendig fühlen. Gemeinsam 
 leuchten wir\,  selbst wenn zerbrochene Wolken über uns ziehen.  Du lerns
 t durch die  körperliche Reinigung der Yoga praxis\,  Dich von innen her 
 zu sehen. Wir üben Achtsamkeit im Hier[..]\nhttps://www.serratus.ch/Events
 /sun-yoga-susan/var/ri-1.l-L1
URL:https://www.serratus.ch/Events/sun-yoga-susan/var/ri-1.l-L1
END:VEVENT
END:VCALENDAR