BEGIN:VCALENDAR
VERSION:2.0
PRODID:-//eventon.com NONSGML v1.0//EN
CALSCALE:GREGORIAN
METHOD:PUBLISH
BEGIN:VEVENT
UID:69e7b4a12a4c9
DTSTAMP:20260421T173217Z
DTSTART:20260513T160000Z
DTEND:20260513T171500Z
LOCATION:Serrat(u)s Bodywork Zürich Zwinglistrasse 40\,  8004 Zürich
SUMMARY:Earth Yoga
DESCRIPTION:Erde steht für die Verkörperung des Geistes in Form. Die Qual
 ität für sich einzustehen beruht auf der Stabilität und Beständigkeit i
 n der Yoga Praxis. Wir lernen die Verbundenheit mit der Erde im Leben zu k
 ultivieren. Earth Yoga ist für Yoginis und Yogis welche sich spirituell we
 iterentwickeln möchten und die Wichtigkeit der[..]\nhttps://www.serratus.c
 h/Events/earth-yoga-mi/var/ri-2.l-L1
URL:https://www.serratus.ch/Events/earth-yoga-mi/var/ri-2.l-L1
END:VEVENT
END:VCALENDAR