BEGIN:VCALENDAR
VERSION:2.0
PRODID:-//eventon.com NONSGML v1.0//EN
CALSCALE:GREGORIAN
METHOD:PUBLISH
BEGIN:VEVENT
UID:69e9dac4506c6
DTSTAMP:20260423T083932Z
DTSTART:20260514T160000Z
DTEND:20260514T171500Z
LOCATION:Serrat(u)s Bodywork Zürich Zwinglistrasse 40\,  8004 Zürich
SUMMARY:Sparkle Flow Yoga
DESCRIPTION:Sparkle Flow Yoga\nhttps://www.serratus.ch/Events/sparkle-flow-
 yoga/var/ri-55.l-L1
URL:https://www.serratus.ch/Events/sparkle-flow-yoga/var/ri-55.l-L1
END:VEVENT
END:VCALENDAR