BEGIN:VCALENDAR
VERSION:2.0
PRODID:-//eventon.com NONSGML v1.0//EN
CALSCALE:GREGORIAN
METHOD:PUBLISH
BEGIN:VEVENT
UID:69e9dfc4c8313
DTSTAMP:20260423T090052Z
DTSTART:20260529T101500Z
DTEND:20260529T111500Z
LOCATION:Serrat(u)s Bodywork Zürich Zwinglistrasse 40\,  8004 Zürich
SUMMARY:Yoga Flow
DESCRIPTION:Yoga Flow\nhttps://www.serratus.ch/Events/yoga-flow-2/var/ri-19
 .l-L1
URL:https://www.serratus.ch/Events/yoga-flow-2/var/ri-19.l-L1
END:VEVENT
END:VCALENDAR